BEGIN:VCALENDAR
VERSION:2.0
PRODID:hinto.net
X-PUBLISHED-TTL:P1W
BEGIN:VEVENT
UID:hinto.net-event_show-6847638
DTSTART:20260531T160000
SEQUENCE:0
CREATED:20260325T015059
LAST-MODIFIED:20260325T015059
TRANSP:OPAQUE
DTEND:20260531T174500
LOCATION:Kula
SUMMARY:Zirkuskind
CLASS:PUBLIC
DESCRIPTION:
ORGANIZER:
DTSTAMP:20260419T201834
ATTACH:https://www.hinto.net/de/events/zirkuskind-31-05-2026-1600-kula-konstanz-e2780363-20.html
END:VEVENT
END:VCALENDAR
