BEGIN:VCALENDAR
VERSION:2.0
PRODID:hinto.net
X-PUBLISHED-TTL:P1W
BEGIN:VEVENT
UID:hinto.net-event_show-6873498
DTSTART:20260422T231500
SEQUENCE:0
CREATED:20260402T052914
LAST-MODIFIED:20260402T052914
TRANSP:OPAQUE
DTEND:20260423T003000
LOCATION:
SUMMARY:ZDFneo: 30 Minuten oder weniger
CLASS:PUBLIC
DESCRIPTION:
ORGANIZER:
DTSTAMP:20260423T214506
ATTACH:https://www.hinto.net/de/events/zdfneo-30-minuten-oder-weniger-22-04-2026-2315-e2801902-20.html
END:VEVENT
END:VCALENDAR
