BEGIN:VCALENDAR
VERSION:2.0
PRODID:hinto.net
X-PUBLISHED-TTL:P1W
BEGIN:VEVENT
UID:hinto.net-event_show-6872261
DTSTART:20260422T233500
SEQUENCE:0
CREATED:20260402T044131
LAST-MODIFIED:20260402T044131
TRANSP:OPAQUE
DTEND:20260423T005000
LOCATION:
SUMMARY:ZDF: Markus Lanz
CLASS:PUBLIC
DESCRIPTION:
ORGANIZER:
DTSTAMP:20260423T190310
ATTACH:https://www.hinto.net/de/events/zdf-markus-lanz-22-04-2026-2335-e2800665-20.html
END:VEVENT
END:VCALENDAR
