BEGIN:VCALENDAR
VERSION:2.0
PRODID:hinto.net
X-PUBLISHED-TTL:P1W
BEGIN:VEVENT
UID:hinto.net-event_show-6862774
DTSTART:20260419T144500
SEQUENCE:0
CREATED:20260329T150751
LAST-MODIFIED:20260329T150751
TRANSP:OPAQUE
DTEND:20260419T152500
LOCATION:
SUMMARY:ZDF: Duell der Gartenprofis
CLASS:PUBLIC
DESCRIPTION:
ORGANIZER:
DTSTAMP:20260420T022029
ATTACH:https://www.hinto.net/de/events/zdf-duell-der-gartenprofis-19-04-2026-1445-e2793390-20.html
END:VEVENT
END:VCALENDAR
