BEGIN:VCALENDAR
VERSION:2.0
PRODID:hinto.net
X-PUBLISHED-TTL:P1W
BEGIN:VEVENT
UID:hinto.net-event_show-6862777
DTSTART:20260419T161500
SEQUENCE:0
CREATED:20260329T150754
LAST-MODIFIED:20260329T150754
TRANSP:OPAQUE
DTEND:20260419T170000
LOCATION:
SUMMARY:ZDF: Die Rosenheim-Cops
CLASS:PUBLIC
DESCRIPTION:
ORGANIZER:
DTSTAMP:20260420T023754
ATTACH:https://www.hinto.net/de/events/zdf-die-rosenheim-cops-19-04-2026-1615-e2793393-20.html
END:VEVENT
END:VCALENDAR
