BEGIN:VCALENDAR
VERSION:2.0
PRODID:hinto.net
X-PUBLISHED-TTL:P1W
BEGIN:VEVENT
UID:hinto.net-event_show-6921874
DTSTART:20260429T190000
SEQUENCE:0
CREATED:20260417T071637
LAST-MODIFIED:20260417T071637
TRANSP:OPAQUE
DTEND:20260429T230000
LOCATION:Hagenhaus
SUMMARY:Violine III
CLASS:PUBLIC
DESCRIPTION:
ORGANIZER:
DTSTAMP:20260420T060807
ATTACH:https://www.hinto.net/de/events/violine-iii-29-04-2026-1900-hagenhaus-nendeln-e2844653-20.html
END:VEVENT
END:VCALENDAR
