BEGIN:VCALENDAR
VERSION:2.0
PRODID:hinto.net
X-PUBLISHED-TTL:P1W
BEGIN:VEVENT
UID:hinto.net-event_show-6919373
DTSTART:20260419T021000
SEQUENCE:0
CREATED:20260417T042229
LAST-MODIFIED:20260417T042229
TRANSP:OPAQUE
DTEND:20260419T060000
LOCATION:
SUMMARY:TV25: Susi.live
CLASS:PUBLIC
DESCRIPTION:
ORGANIZER:
DTSTAMP:20260419T171739
ATTACH:https://www.hinto.net/de/events/tv25-susi-live-19-04-2026-0210-e2842330-20.html
END:VEVENT
END:VCALENDAR
