BEGIN:VCALENDAR
VERSION:2.0
PRODID:hinto.net
X-PUBLISHED-TTL:P1W
BEGIN:VEVENT
UID:hinto.net-event_show-6891541
DTSTART:20260419T163000
SEQUENCE:0
CREATED:20260408T173726
LAST-MODIFIED:20260408T173726
TRANSP:OPAQUE
DTEND:20260419T171500
LOCATION:
SUMMARY:TV25: premiumshopping.tv
CLASS:PUBLIC
DESCRIPTION:
ORGANIZER:
DTSTAMP:20260420T045201
ATTACH:https://www.hinto.net/de/events/tv25-premiumshopping-tv-19-04-2026-1630-e2817647-20.html
END:VEVENT
END:VCALENDAR
