BEGIN:VCALENDAR
VERSION:2.0
PRODID:hinto.net
X-PUBLISHED-TTL:P1W
BEGIN:VEVENT
UID:hinto.net-event_show-6891540
DTSTART:20260419T130000
SEQUENCE:0
CREATED:20260408T173725
LAST-MODIFIED:20260408T173725
TRANSP:OPAQUE
DTEND:20260419T163000
LOCATION:
SUMMARY:TV25: premiumshopping.tv
CLASS:PUBLIC
DESCRIPTION:
ORGANIZER:
DTSTAMP:20260420T001854
ATTACH:https://www.hinto.net/de/events/tv25-premiumshopping-tv-19-04-2026-1300-e2817646-20.html
END:VEVENT
END:VCALENDAR
