BEGIN:VCALENDAR
VERSION:2.0
PRODID:hinto.net
X-PUBLISHED-TTL:P1W
BEGIN:VEVENT
UID:hinto.net-event_show-6905321
DTSTART:20260423T000000
SEQUENCE:0
CREATED:20260412T140908
LAST-MODIFIED:20260412T140908
TRANSP:OPAQUE
DTEND:20260423T005500
LOCATION:
SUMMARY:TV25: Lucifer
CLASS:PUBLIC
DESCRIPTION:
ORGANIZER:
DTSTAMP:20260423T215041
ATTACH:https://www.hinto.net/de/events/tv25-lucifer-23-04-2026-0000-e2830288-20.html
END:VEVENT
END:VCALENDAR
