BEGIN:VCALENDAR
VERSION:2.0
PRODID:hinto.net
X-PUBLISHED-TTL:P1W
BEGIN:VEVENT
UID:hinto.net-event_show-6829877
DTSTART:20260803T100000
SEQUENCE:0
CREATED:20260319T025913
LAST-MODIFIED:20260319T025913
TRANSP:OPAQUE
DTEND:20260803T120000
LOCATION:BAU3
SUMMARY:THE GIRL GANG
CLASS:PUBLIC
DESCRIPTION:
ORGANIZER:
DTSTAMP:20260420T070542
ATTACH:https://www.hinto.net/de/events/the-girl-gang-03-08-2026-1000-bau3-basel-e2765335-20.html
END:VEVENT
END:VCALENDAR
