BEGIN:VCALENDAR
VERSION:2.0
PRODID:hinto.net
X-PUBLISHED-TTL:P1W
BEGIN:VEVENT
UID:hinto.net-event_show-6873207
DTSTART:20260422T232000
SEQUENCE:0
CREATED:20260402T051708
LAST-MODIFIED:20260402T051708
TRANSP:OPAQUE
DTEND:20260423T000000
LOCATION:
SUMMARY:Tele Top: Top Talk
CLASS:PUBLIC
DESCRIPTION:
ORGANIZER:
DTSTAMP:20260423T162048
ATTACH:https://www.hinto.net/de/events/tele-top-top-talk-22-04-2026-2320-e2801611-20.html
END:VEVENT
END:VCALENDAR
