BEGIN:VCALENDAR
VERSION:2.0
PRODID:hinto.net
X-PUBLISHED-TTL:P1W
BEGIN:VEVENT
UID:hinto.net-event_show-6853655
DTSTART:20260417T000000
SEQUENCE:0
CREATED:20260326T192624
LAST-MODIFIED:20260326T192624
TRANSP:OPAQUE
DTEND:20260417T001600
LOCATION:
SUMMARY:Tele Top: Top News
CLASS:PUBLIC
DESCRIPTION:
ORGANIZER:
DTSTAMP:20260420T044241
ATTACH:https://www.hinto.net/de/events/tele-top-top-news-17-04-2026-0000-e2785534-20.html
END:VEVENT
END:VCALENDAR
