BEGIN:VCALENDAR
VERSION:2.0
PRODID:hinto.net
X-PUBLISHED-TTL:P1W
BEGIN:VEVENT
UID:hinto.net-event_show-6895247
DTSTART:20260422T235600
SEQUENCE:0
CREATED:20260409T183857
LAST-MODIFIED:20260409T183857
TRANSP:OPAQUE
DTEND:20260423T000000
LOCATION:
SUMMARY:Tele M1: Wetter
CLASS:PUBLIC
DESCRIPTION:
ORGANIZER:
DTSTAMP:20260423T163650
ATTACH:https://www.hinto.net/de/events/tele-m1-wetter-22-04-2026-2356-e2821097-20.html
END:VEVENT
END:VCALENDAR
