BEGIN:VCALENDAR
VERSION:2.0
PRODID:hinto.net
X-PUBLISHED-TTL:P1W
BEGIN:VEVENT
UID:hinto.net-event_show-6901591
DTSTART:20260419T122000
SEQUENCE:0
CREATED:20260411T061111
LAST-MODIFIED:20260411T061111
TRANSP:OPAQUE
DTEND:20260419T130000
LOCATION:
SUMMARY:Tele M1: premiumshopping.tv
CLASS:PUBLIC
DESCRIPTION:
ORGANIZER:
DTSTAMP:20260420T065742
ATTACH:https://www.hinto.net/de/events/tele-m1-premiumshopping-tv-19-04-2026-1220-e2826989-20.html
END:VEVENT
END:VCALENDAR
