BEGIN:VCALENDAR
VERSION:2.0
PRODID:hinto.net
X-PUBLISHED-TTL:P1W
BEGIN:VEVENT
UID:hinto.net-event_show-6863198
DTSTART:20260419T130000
SEQUENCE:0
CREATED:20260329T153055
LAST-MODIFIED:20260329T153055
TRANSP:OPAQUE
DTEND:20260419T131500
LOCATION:
SUMMARY:Tele M1: Aktuell
CLASS:PUBLIC
DESCRIPTION:
ORGANIZER:
DTSTAMP:20260420T041827
ATTACH:https://www.hinto.net/de/events/tele-m1-aktuell-19-04-2026-1300-e2793814-20.html
END:VEVENT
END:VCALENDAR
