BEGIN:VCALENDAR
VERSION:2.0
PRODID:hinto.net
X-PUBLISHED-TTL:P1W
BEGIN:VEVENT
UID:hinto.net-event_show-6863437
DTSTART:20260419T131300
SEQUENCE:0
CREATED:20260329T154545
LAST-MODIFIED:20260329T154545
TRANSP:OPAQUE
DTEND:20260419T131500
LOCATION:
SUMMARY:Tele Basel: Wetter
CLASS:PUBLIC
DESCRIPTION:
ORGANIZER:
DTSTAMP:20260419T233508
ATTACH:https://www.hinto.net/de/events/tele-basel-wetter-19-04-2026-1313-e2794053-20.html
END:VEVENT
END:VCALENDAR
