BEGIN:VCALENDAR
VERSION:2.0
PRODID:hinto.net
X-PUBLISHED-TTL:P1W
BEGIN:VEVENT
UID:hinto.net-event_show-6863440
DTSTART:20260419T134500
SEQUENCE:0
CREATED:20260329T154547
LAST-MODIFIED:20260329T154547
TRANSP:OPAQUE
DTEND:20260419T140000
LOCATION:
SUMMARY:Tele Basel: Tatze, Pfote, Schnabel
CLASS:PUBLIC
DESCRIPTION:
ORGANIZER:
DTSTAMP:20260419T181411
ATTACH:https://www.hinto.net/de/events/tele-basel-tatze-pfote-schnabel-19-04-2026-1345-e2794056-20.html
END:VEVENT
END:VCALENDAR
