BEGIN:VCALENDAR
VERSION:2.0
PRODID:hinto.net
X-PUBLISHED-TTL:P1W
BEGIN:VEVENT
UID:hinto.net-event_show-6860080
DTSTART:20260418T234500
SEQUENCE:0
CREATED:20260328T060226
LAST-MODIFIED:20260328T060226
TRANSP:OPAQUE
DTEND:20260419T000000
LOCATION:
SUMMARY:Tele Basel: Tatze, Pfote, Schnabel
CLASS:PUBLIC
DESCRIPTION:
ORGANIZER:
DTSTAMP:20260419T172931
ATTACH:https://www.hinto.net/de/events/tele-basel-tatze-pfote-schnabel-18-04-2026-2345-e2791259-20.html
END:VEVENT
END:VCALENDAR
