BEGIN:VCALENDAR
VERSION:2.0
PRODID:hinto.net
X-PUBLISHED-TTL:P1W
BEGIN:VEVENT
UID:hinto.net-event_show-6863462
DTSTART:20260419T191500
SEQUENCE:0
CREATED:20260329T154603
LAST-MODIFIED:20260329T154603
TRANSP:OPAQUE
DTEND:20260419T200000
LOCATION:
SUMMARY:Tele Basel: Sonntags Talk
CLASS:PUBLIC
DESCRIPTION:
ORGANIZER:
DTSTAMP:20260420T064700
ATTACH:https://www.hinto.net/de/events/tele-basel-sonntags-talk-19-04-2026-1915-e2794078-20.html
END:VEVENT
END:VCALENDAR
