BEGIN:VCALENDAR
VERSION:2.0
PRODID:hinto.net
X-PUBLISHED-TTL:P1W
BEGIN:VEVENT
UID:hinto.net-event_show-6863463
DTSTART:20260419T200000
SEQUENCE:0
CREATED:20260329T154604
LAST-MODIFIED:20260329T154604
TRANSP:OPAQUE
DTEND:20260419T201300
LOCATION:
SUMMARY:Tele Basel: punkt6
CLASS:PUBLIC
DESCRIPTION:
ORGANIZER:
DTSTAMP:20260420T090421
ATTACH:https://www.hinto.net/de/events/tele-basel-punkt6-19-04-2026-2000-e2794079-20.html
END:VEVENT
END:VCALENDAR
