BEGIN:VCALENDAR
VERSION:2.0
PRODID:hinto.net
X-PUBLISHED-TTL:P1W
BEGIN:VEVENT
UID:hinto.net-event_show-6873057
DTSTART:20260423T034500
SEQUENCE:0
CREATED:20260402T051155
LAST-MODIFIED:20260402T051155
TRANSP:OPAQUE
DTEND:20260423T040000
LOCATION:
SUMMARY:Tele Basel: Kuchigschichte
CLASS:PUBLIC
DESCRIPTION:
ORGANIZER:
DTSTAMP:20260423T191108
ATTACH:https://www.hinto.net/de/events/tele-basel-kuchigschichte-23-04-2026-0345-e2801461-20.html
END:VEVENT
END:VCALENDAR
