BEGIN:VCALENDAR
VERSION:2.0
PRODID:hinto.net
X-PUBLISHED-TTL:P1W
BEGIN:VEVENT
UID:hinto.net-event_show-6873052
DTSTART:20260423T024500
SEQUENCE:0
CREATED:20260402T051152
LAST-MODIFIED:20260402T051152
TRANSP:OPAQUE
DTEND:20260423T030000
LOCATION:
SUMMARY:Tele Basel: Kuchigschichte
CLASS:PUBLIC
DESCRIPTION:
ORGANIZER:
DTSTAMP:20260423T163450
ATTACH:https://www.hinto.net/de/events/tele-basel-kuchigschichte-23-04-2026-0245-e2801456-20.html
END:VEVENT
END:VCALENDAR
