BEGIN:VCALENDAR
VERSION:2.0
PRODID:hinto.net
X-PUBLISHED-TTL:P1W
BEGIN:VEVENT
UID:hinto.net-event_show-6873051
DTSTART:20260423T023000
SEQUENCE:0
CREATED:20260402T051151
LAST-MODIFIED:20260402T051151
TRANSP:OPAQUE
DTEND:20260423T024500
LOCATION:
SUMMARY:Tele Basel: Geld & Co.
CLASS:PUBLIC
DESCRIPTION:
ORGANIZER:
DTSTAMP:20260423T190425
ATTACH:https://www.hinto.net/de/events/tele-basel-geld-co-23-04-2026-0230-e2801455-20.html
END:VEVENT
END:VCALENDAR
