BEGIN:VCALENDAR
VERSION:2.0
PRODID:hinto.net
X-PUBLISHED-TTL:P1W
BEGIN:VEVENT
UID:hinto.net-event_show-6872949
DTSTART:20260423T025500
SEQUENCE:0
CREATED:20260402T050909
LAST-MODIFIED:20260402T050909
TRANSP:OPAQUE
DTEND:20260423T030000
LOCATION:
SUMMARY:Tele Bärn: Wetter
CLASS:PUBLIC
DESCRIPTION:
ORGANIZER:
DTSTAMP:20260423T191103
ATTACH:https://www.hinto.net/de/events/tele-baern-wetter-23-04-2026-0255-e2801353-20.html
END:VEVENT
END:VCALENDAR
