BEGIN:VCALENDAR
VERSION:2.0
PRODID:hinto.net
X-PUBLISHED-TTL:P1W
BEGIN:VEVENT
UID:hinto.net-event_show-6860009
DTSTART:20260419T045500
SEQUENCE:0
CREATED:20260328T060115
LAST-MODIFIED:20260328T060115
TRANSP:OPAQUE
DTEND:20260419T050000
LOCATION:
SUMMARY:Tele Bärn: Wetter
CLASS:PUBLIC
DESCRIPTION:
ORGANIZER:
DTSTAMP:20260421T074319
ATTACH:https://www.hinto.net/de/events/tele-baern-wetter-19-04-2026-0455-e2791188-20.html
END:VEVENT
END:VCALENDAR
