BEGIN:VCALENDAR
VERSION:2.0
PRODID:hinto.net
X-PUBLISHED-TTL:P1W
BEGIN:VEVENT
UID:hinto.net-event_show-6863359
DTSTART:20260419T180000
SEQUENCE:0
CREATED:20260329T153938
LAST-MODIFIED:20260329T153938
TRANSP:OPAQUE
DTEND:20260419T182000
LOCATION:
SUMMARY:Tele Bärn: TeleBärn News
CLASS:PUBLIC
DESCRIPTION:
ORGANIZER:
DTSTAMP:20260420T060710
ATTACH:https://www.hinto.net/de/events/tele-baern-telebaern-news-19-04-2026-1800-e2793975-20.html
END:VEVENT
END:VCALENDAR
