BEGIN:VCALENDAR
VERSION:2.0
PRODID:hinto.net
X-PUBLISHED-TTL:P1W
BEGIN:VEVENT
UID:hinto.net-event_show-6863354
DTSTART:20260419T164500
SEQUENCE:0
CREATED:20260329T153934
LAST-MODIFIED:20260329T153934
TRANSP:OPAQUE
DTEND:20260419T170000
LOCATION:
SUMMARY:Tele Bärn: GlobeTV
CLASS:PUBLIC
DESCRIPTION:
ORGANIZER:
DTSTAMP:20260420T031147
ATTACH:https://www.hinto.net/de/events/tele-baern-globetv-19-04-2026-1645-e2793970-20.html
END:VEVENT
END:VCALENDAR
