BEGIN:VCALENDAR
VERSION:2.0
PRODID:hinto.net
X-PUBLISHED-TTL:P1W
BEGIN:VEVENT
UID:hinto.net-event_show-6872708
DTSTART:20260423T025000
SEQUENCE:0
CREATED:20260402T050421
LAST-MODIFIED:20260402T050421
TRANSP:OPAQUE
DTEND:20260423T025500
LOCATION:
SUMMARY:Tele 1: Eventtipp
CLASS:PUBLIC
DESCRIPTION:
ORGANIZER:
DTSTAMP:20260423T190305
ATTACH:https://www.hinto.net/de/events/tele-1-eventtipp-23-04-2026-0250-e2801112-20.html
END:VEVENT
END:VCALENDAR
