BEGIN:VCALENDAR
VERSION:2.0
PRODID:hinto.net
X-PUBLISHED-TTL:P1W
BEGIN:VEVENT
UID:hinto.net-event_show-6866377
DTSTART:20260420T075500
SEQUENCE:0
CREATED:20260330T183508
LAST-MODIFIED:20260330T183508
TRANSP:OPAQUE
DTEND:20260420T090500
LOCATION:
SUMMARY:SWR: Panoramablick
CLASS:PUBLIC
DESCRIPTION:
ORGANIZER:
DTSTAMP:20260419T174414
ATTACH:https://www.hinto.net/de/events/swr-panoramablick-20-04-2026-0755-e2796596-20.html
END:VEVENT
END:VCALENDAR
