BEGIN:VCALENDAR
VERSION:2.0
PRODID:hinto.net
X-PUBLISHED-TTL:P1W
BEGIN:VEVENT
UID:hinto.net-event_show-6918776
DTSTART:20260508T035000
SEQUENCE:0
CREATED:20260417T040101
LAST-MODIFIED:20260417T040101
TRANSP:OPAQUE
DTEND:20260508T040000
LOCATION:
SUMMARY:SWR: Expedition in die Heimat
CLASS:PUBLIC
DESCRIPTION:
ORGANIZER:
DTSTAMP:20260419T225257
ATTACH:https://www.hinto.net/de/events/swr-expedition-in-die-heimat-08-05-2026-0350-e2841733-20.html
END:VEVENT
END:VCALENDAR
