BEGIN:VCALENDAR
VERSION:2.0
PRODID:hinto.net
X-PUBLISHED-TTL:P1W
BEGIN:VEVENT
UID:hinto.net-event_show-6863683
DTSTART:20260419T194000
SEQUENCE:0
CREATED:20260329T155552
LAST-MODIFIED:20260329T155552
TRANSP:OPAQUE
DTEND:20260419T201500
LOCATION:
SUMMARY:Super RTL: Woozle Goozle
CLASS:PUBLIC
DESCRIPTION:
ORGANIZER:
DTSTAMP:20260419T174613
ATTACH:https://www.hinto.net/de/events/super-rtl-woozle-goozle-19-04-2026-1940-e2794299-20.html
END:VEVENT
END:VCALENDAR
