BEGIN:VCALENDAR
VERSION:2.0
PRODID:hinto.net
X-PUBLISHED-TTL:P1W
BEGIN:VEVENT
UID:hinto.net-event_show-6853735
DTSTART:20260417T000000
SEQUENCE:0
CREATED:20260326T193431
LAST-MODIFIED:20260326T193431
TRANSP:OPAQUE
DTEND:20260417T010000
LOCATION:
SUMMARY:Super RTL: CSI: Miami
CLASS:PUBLIC
DESCRIPTION:
ORGANIZER:
DTSTAMP:20260419T171727
ATTACH:https://www.hinto.net/de/events/super-rtl-csi-miami-17-04-2026-0000-e2785614-20.html
END:VEVENT
END:VCALENDAR
