BEGIN:VCALENDAR
VERSION:2.0
PRODID:hinto.net
X-PUBLISHED-TTL:P1W
BEGIN:VEVENT
UID:hinto.net-event_show-6863676
DTSTART:20260419T181000
SEQUENCE:0
CREATED:20260329T155544
LAST-MODIFIED:20260329T155544
TRANSP:OPAQUE
DTEND:20260419T182000
LOCATION:
SUMMARY:Super RTL: ALVINNN!!! und die Chipmunks
CLASS:PUBLIC
DESCRIPTION:
ORGANIZER:
DTSTAMP:20260420T062859
ATTACH:https://www.hinto.net/de/events/super-rtl-alvinnn!!!-und-die-chipmunks-19-04-2026-1810-e2794292-20.html
END:VEVENT
END:VCALENDAR
