BEGIN:VCALENDAR
VERSION:2.0
PRODID:hinto.net
X-PUBLISHED-TTL:P1W
BEGIN:VEVENT
UID:hinto.net-event_show-6871987
DTSTART:20260423T000000
SEQUENCE:0
CREATED:20260402T042148
LAST-MODIFIED:20260402T042148
TRANSP:OPAQUE
DTEND:20260423T002500
LOCATION:
SUMMARY:SRF zwei: Tagesschau vor 20 Jahren
CLASS:PUBLIC
DESCRIPTION:
ORGANIZER:
DTSTAMP:20260424T170350
ATTACH:https://www.hinto.net/de/events/srf-zwei-tagesschau-vor-20-jahren-23-04-2026-0000-e2800391-20.html
END:VEVENT
END:VCALENDAR
