BEGIN:VCALENDAR
VERSION:2.0
PRODID:hinto.net
X-PUBLISHED-TTL:P1W
BEGIN:VEVENT
UID:hinto.net-event_show-6862550
DTSTART:20260419T180000
SEQUENCE:0
CREATED:20260329T145330
LAST-MODIFIED:20260329T145330
TRANSP:OPAQUE
DTEND:20260419T190000
LOCATION:
SUMMARY:SRF zwei: Sportpanorama
CLASS:PUBLIC
DESCRIPTION:
ORGANIZER:
DTSTAMP:20260420T092312
ATTACH:https://www.hinto.net/de/events/srf-zwei-sportpanorama-19-04-2026-1800-e2793166-20.html
END:VEVENT
END:VCALENDAR
