BEGIN:VCALENDAR
VERSION:2.0
PRODID:hinto.net
X-PUBLISHED-TTL:P1W
BEGIN:VEVENT
UID:hinto.net-event_show-6871988
DTSTART:20260423T002500
SEQUENCE:0
CREATED:20260422T173638
LAST-MODIFIED:20260422T173638
TRANSP:OPAQUE
DTEND:20260423T003000
LOCATION:
SUMMARY:SRF zwei: Sportflash
CLASS:PUBLIC
DESCRIPTION:
ORGANIZER:
DTSTAMP:20260423T230700
ATTACH:https://www.hinto.net/de/events/srf-zwei-sportflash-23-04-2026-0025-e2800392-20.html
END:VEVENT
END:VCALENDAR
