BEGIN:VCALENDAR
VERSION:2.0
PRODID:hinto.net
X-PUBLISHED-TTL:P1W
BEGIN:VEVENT
UID:hinto.net-event_show-6871992
DTSTART:20260423T040000
SEQUENCE:0
CREATED:20260422T173640
LAST-MODIFIED:20260422T173640
TRANSP:OPAQUE
DTEND:20260423T042500
LOCATION:
SUMMARY:SRF zwei: rec.
CLASS:PUBLIC
DESCRIPTION:
ORGANIZER:
DTSTAMP:20260423T161508
ATTACH:https://www.hinto.net/de/events/srf-zwei-rec-23-04-2026-0400-e2800396-20.html
END:VEVENT
END:VCALENDAR
