BEGIN:VCALENDAR
VERSION:2.0
PRODID:hinto.net
X-PUBLISHED-TTL:P1W
BEGIN:VEVENT
UID:hinto.net-event_show-6872074
DTSTART:20260423T014000
SEQUENCE:0
CREATED:20260402T042749
LAST-MODIFIED:20260402T042749
TRANSP:OPAQUE
DTEND:20260423T014500
LOCATION:
SUMMARY:SRF info: Sportflash
CLASS:PUBLIC
DESCRIPTION:
ORGANIZER:
DTSTAMP:20260423T202135
ATTACH:https://www.hinto.net/de/events/srf-info-sportflash-23-04-2026-0140-e2800478-20.html
END:VEVENT
END:VCALENDAR
