BEGIN:VCALENDAR
VERSION:2.0
PRODID:hinto.net
X-PUBLISHED-TTL:P1W
BEGIN:VEVENT
UID:hinto.net-event_show-6852499
DTSTART:20260417T013500
SEQUENCE:0
CREATED:20260326T181536
LAST-MODIFIED:20260326T181536
TRANSP:OPAQUE
DTEND:20260417T014000
LOCATION:
SUMMARY:SRF info: Sportflash
CLASS:PUBLIC
DESCRIPTION:
ORGANIZER:
DTSTAMP:20260419T180315
ATTACH:https://www.hinto.net/de/events/srf-info-sportflash-17-04-2026-0135-e2784378-20.html
END:VEVENT
END:VCALENDAR
