BEGIN:VCALENDAR
VERSION:2.0
PRODID:hinto.net
X-PUBLISHED-TTL:P1W
BEGIN:VEVENT
UID:hinto.net-event_show-6872073
DTSTART:20260423T013500
SEQUENCE:0
CREATED:20260402T042748
LAST-MODIFIED:20260402T042748
TRANSP:OPAQUE
DTEND:20260423T014000
LOCATION:
SUMMARY:SRF info: Meteo
CLASS:PUBLIC
DESCRIPTION:
ORGANIZER:
DTSTAMP:20260423T185934
ATTACH:https://www.hinto.net/de/events/srf-info-meteo-23-04-2026-0135-e2800477-20.html
END:VEVENT
END:VCALENDAR
