BEGIN:VCALENDAR
VERSION:2.0
PRODID:hinto.net
X-PUBLISHED-TTL:P1W
BEGIN:VEVENT
UID:hinto.net-event_show-6859157
DTSTART:20260418T235000
SEQUENCE:0
CREATED:20260328T052906
LAST-MODIFIED:20260328T052906
TRANSP:OPAQUE
DTEND:20260419T002500
LOCATION:
SUMMARY:SRF info: Gredig direkt
CLASS:PUBLIC
DESCRIPTION:
ORGANIZER:
DTSTAMP:20260419T185945
ATTACH:https://www.hinto.net/de/events/srf-info-gredig-direkt-18-04-2026-2350-e2790336-20.html
END:VEVENT
END:VCALENDAR
