BEGIN:VCALENDAR
VERSION:2.0
PRODID:hinto.net
X-PUBLISHED-TTL:P1W
BEGIN:VEVENT
UID:hinto.net-event_show-6852497
DTSTART:20260417T010500
SEQUENCE:0
CREATED:20260326T181533
LAST-MODIFIED:20260326T181533
TRANSP:OPAQUE
DTEND:20260417T013000
LOCATION:
SUMMARY:SRF info: 10 vor 10
CLASS:PUBLIC
DESCRIPTION:
ORGANIZER:
DTSTAMP:20260419T195749
ATTACH:https://www.hinto.net/de/events/srf-info-10-vor-10-17-04-2026-0105-e2784376-20.html
END:VEVENT
END:VCALENDAR
