BEGIN:VCALENDAR
VERSION:2.0
PRODID:hinto.net
X-PUBLISHED-TTL:P1W
BEGIN:VEVENT
UID:hinto.net-event_show-6871960
DTSTART:20260423T002500
SEQUENCE:0
CREATED:20260402T042113
LAST-MODIFIED:20260402T042113
TRANSP:OPAQUE
DTEND:20260423T015500
LOCATION:
SUMMARY:SRF 1: Rosamunde Pilcher
CLASS:PUBLIC
DESCRIPTION:
ORGANIZER:
DTSTAMP:20260424T013846
ATTACH:https://www.hinto.net/de/events/srf-1-rosamunde-pilcher-23-04-2026-0025-e2800364-20.html
END:VEVENT
END:VCALENDAR
