BEGIN:VCALENDAR
VERSION:2.0
PRODID:hinto.net
X-PUBLISHED-TTL:P1W
BEGIN:VEVENT
UID:hinto.net-event_show-6871966
DTSTART:20260423T040500
SEQUENCE:0
CREATED:20260414T152734
LAST-MODIFIED:20260414T152734
TRANSP:OPAQUE
DTEND:20260423T043500
LOCATION:
SUMMARY:SRF 1: Potzmusig
CLASS:PUBLIC
DESCRIPTION:
ORGANIZER:
DTSTAMP:20260423T190426
ATTACH:https://www.hinto.net/de/events/srf-1-potzmusig-23-04-2026-0405-e2800370-20.html
END:VEVENT
END:VCALENDAR
