BEGIN:VCALENDAR
VERSION:2.0
PRODID:hinto.net
X-PUBLISHED-TTL:P1W
BEGIN:VEVENT
UID:hinto.net-event_show-6852391
DTSTART:20260417T014500
SEQUENCE:0
CREATED:20260329T113054
LAST-MODIFIED:20260329T113054
TRANSP:OPAQUE
DTEND:20260417T022000
LOCATION:
SUMMARY:SRF 1: Gredig direkt
CLASS:PUBLIC
DESCRIPTION:
ORGANIZER:
DTSTAMP:20260419T200015
ATTACH:https://www.hinto.net/de/events/srf-1-gredig-direkt-17-04-2026-0145-e2784270-20.html
END:VEVENT
END:VCALENDAR
