BEGIN:VCALENDAR
VERSION:2.0
PRODID:hinto.net
X-PUBLISHED-TTL:P1W
BEGIN:VEVENT
UID:hinto.net-event_show-6925207
DTSTART:20260424T093000
SEQUENCE:0
CREATED:20260419T052046
LAST-MODIFIED:20260419T052046
TRANSP:OPAQUE

LOCATION:Bibliothek Münsingen
SUMMARY:Shared Reading - Miteinander Lesen
CLASS:PUBLIC
DESCRIPTION:
ORGANIZER:
DTSTAMP:20260420T045922
ATTACH:https://www.hinto.net/de/events/shared-reading-miteinander-lesen-24-04-2026-0930-bibliothek-muensingen-muensingen-e2847340-20.html
END:VEVENT
END:VCALENDAR
