BEGIN:VCALENDAR
VERSION:2.0
PRODID:hinto.net
X-PUBLISHED-TTL:P1W
BEGIN:VEVENT
UID:hinto.net-event_show-6867420
DTSTART:20260419T090000
SEQUENCE:0
CREATED:20260331T201940
LAST-MODIFIED:20260331T201940
TRANSP:OPAQUE
DTEND:20260419T120500
LOCATION:
SUMMARY:SAT 1: SAT.1-Frühstücksfernsehen am Sonntag
CLASS:PUBLIC
DESCRIPTION:
ORGANIZER:
DTSTAMP:20260419T235139
ATTACH:https://www.hinto.net/de/events/sat-1-sat-1-fruehstuecksfernsehen-am-sonntag-19-04-2026-0900-e2797388-20.html
END:VEVENT
END:VCALENDAR
