BEGIN:VCALENDAR
VERSION:2.0
PRODID:hinto.net
X-PUBLISHED-TTL:P1W
BEGIN:VEVENT
UID:hinto.net-event_show-6862669
DTSTART:20260419T190000
SEQUENCE:0
CREATED:20260329T150255
LAST-MODIFIED:20260329T150255
TRANSP:OPAQUE
DTEND:20260420T070000
LOCATION:
SUMMARY:RTS Info: L'essentiel de l'actualité
CLASS:PUBLIC
DESCRIPTION:
ORGANIZER:
DTSTAMP:20260420T095313
ATTACH:https://www.hinto.net/de/events/rts-info-lessentiel-de-lactualite-19-04-2026-1900-e2793285-20.html
END:VEVENT
END:VCALENDAR
