BEGIN:VCALENDAR
VERSION:2.0
PRODID:hinto.net
X-PUBLISHED-TTL:P1W
BEGIN:VEVENT
UID:hinto.net-event_show-6859226
DTSTART:20260418T190000
SEQUENCE:0
CREATED:20260328T053131
LAST-MODIFIED:20260328T053131
TRANSP:OPAQUE
DTEND:20260419T070000
LOCATION:
SUMMARY:RTS Info: L'essentiel de l'actualité
CLASS:PUBLIC
DESCRIPTION:
ORGANIZER:
DTSTAMP:20260419T202139
ATTACH:https://www.hinto.net/de/events/rts-info-lessentiel-de-lactualite-18-04-2026-1900-e2790405-20.html
END:VEVENT
END:VCALENDAR
